BEGIN:VCALENDAR
VERSION:2.0
PRODID:-//Polaris Fashion Place - ECPv6.15.20//NONSGML v1.0//EN
CALSCALE:GREGORIAN
METHOD:PUBLISH
X-ORIGINAL-URL:https://polarisfashionplace.com
X-WR-CALDESC:Events for Polaris Fashion Place
REFRESH-INTERVAL;VALUE=DURATION:PT1H
X-Robots-Tag:noindex
X-PUBLISHED-TTL:PT1H
BEGIN:VTIMEZONE
TZID:America/Detroit
BEGIN:DAYLIGHT
TZOFFSETFROM:-0500
TZOFFSETTO:-0400
TZNAME:EDT
DTSTART:20230312T070000
END:DAYLIGHT
BEGIN:STANDARD
TZOFFSETFROM:-0400
TZOFFSETTO:-0500
TZNAME:EST
DTSTART:20231105T060000
END:STANDARD
BEGIN:DAYLIGHT
TZOFFSETFROM:-0500
TZOFFSETTO:-0400
TZNAME:EDT
DTSTART:20240310T070000
END:DAYLIGHT
BEGIN:STANDARD
TZOFFSETFROM:-0400
TZOFFSETTO:-0500
TZNAME:EST
DTSTART:20241103T060000
END:STANDARD
BEGIN:DAYLIGHT
TZOFFSETFROM:-0500
TZOFFSETTO:-0400
TZNAME:EDT
DTSTART:20250309T070000
END:DAYLIGHT
BEGIN:STANDARD
TZOFFSETFROM:-0400
TZOFFSETTO:-0500
TZNAME:EST
DTSTART:20251102T060000
END:STANDARD
END:VTIMEZONE
BEGIN:VEVENT
DTSTART;TZID=America/Detroit:20240115T170000
DTEND;TZID=America/Detroit:20240115T183000
DTSTAMP:20260419T120955
CREATED:20231227T160301Z
LAST-MODIFIED:20250715T212853Z
UID:1218-1705338000-1705343400@polarisfashionplace.com
SUMMARY:Frozen Extravaganza!
DESCRIPTION:Join us for a Frozen Extravaganza Kid Club Event at Polaris Fashion Place on Monday\, January 15 from 5:00pm – 6:30pm!\nWe’ll have everyone’s favorite Frozen characters including Elsa\, Anna\, Kristoff\, Olaf\, and Sven – singing and dancing on stage for a family fun performance\, followed by a meet-n-greet and photo opportunities!\nOther family entertainment includes face painting\, balloon twisting\, and crafts.\nMake sure to RSVP here: Facebook Event RSVP\nEvent is free to attend and will be located in the Polaris Fashion Place “Center Court” space near Lululemon.\n\nGreat American Cookies will be on-site to pass out some FREE cookies (while supplies last)!\n\nKid Club events are sponsored by Aqua-Tots and Destination Delaware.
URL:https://polarisfashionplace.com/events/frozen-extravaganza/
CATEGORIES:Kids
ATTACH;FMTTYPE=image/svg+xml:https://polarisfashionplace.com/wp-content/uploads/2025/07/fpo2.svg
END:VEVENT
END:VCALENDAR