BEGIN:VCALENDAR
VERSION:2.0
PRODID:-//Polaris Fashion Place - ECPv6.15.20//NONSGML v1.0//EN
CALSCALE:GREGORIAN
METHOD:PUBLISH
X-ORIGINAL-URL:https://polarisfashionplace.com
X-WR-CALDESC:Events for Polaris Fashion Place
REFRESH-INTERVAL;VALUE=DURATION:PT1H
X-Robots-Tag:noindex
X-PUBLISHED-TTL:PT1H
BEGIN:VTIMEZONE
TZID:America/Detroit
BEGIN:DAYLIGHT
TZOFFSETFROM:-0500
TZOFFSETTO:-0400
TZNAME:EDT
DTSTART:20250309T070000
END:DAYLIGHT
BEGIN:STANDARD
TZOFFSETFROM:-0400
TZOFFSETTO:-0500
TZNAME:EST
DTSTART:20251102T060000
END:STANDARD
BEGIN:DAYLIGHT
TZOFFSETFROM:-0500
TZOFFSETTO:-0400
TZNAME:EDT
DTSTART:20260308T070000
END:DAYLIGHT
BEGIN:STANDARD
TZOFFSETFROM:-0400
TZOFFSETTO:-0500
TZNAME:EST
DTSTART:20261101T060000
END:STANDARD
BEGIN:DAYLIGHT
TZOFFSETFROM:-0500
TZOFFSETTO:-0400
TZNAME:EDT
DTSTART:20270314T070000
END:DAYLIGHT
BEGIN:STANDARD
TZOFFSETFROM:-0400
TZOFFSETTO:-0500
TZNAME:EST
DTSTART:20271107T060000
END:STANDARD
END:VTIMEZONE
BEGIN:VEVENT
DTSTART;VALUE=DATE:20261024
DTEND;VALUE=DATE:20261026
DTSTAMP:20260424T132421
CREATED:20260223T145304Z
LAST-MODIFIED:20260223T145304Z
UID:5271-1792800000-1792972799@polarisfashionplace.com
SUMMARY:Orchid Show
DESCRIPTION:Join us for Central Ohio Orchid Society’s 2026 Orchid Show + Sale!  Located in the common areas throughout the mall. \nSaturday 10/24 \nSunday 10/25
URL:https://polarisfashionplace.com/events/orchid-show/
CATEGORIES:Seasonal
ATTACH;FMTTYPE=image/jpeg:https://polarisfashionplace.com/wp-content/uploads/2026/02/wlc-coos-ss-26-.jpg
END:VEVENT
END:VCALENDAR