BEGIN:VCALENDAR
VERSION:2.0
PRODID:-//Polaris Fashion Place - ECPv6.15.20//NONSGML v1.0//EN
CALSCALE:GREGORIAN
METHOD:PUBLISH
X-ORIGINAL-URL:https://polarisfashionplace.com
X-WR-CALDESC:Events for Polaris Fashion Place
REFRESH-INTERVAL;VALUE=DURATION:PT1H
X-Robots-Tag:noindex
X-PUBLISHED-TTL:PT1H
BEGIN:VTIMEZONE
TZID:America/Detroit
BEGIN:DAYLIGHT
TZOFFSETFROM:-0500
TZOFFSETTO:-0400
TZNAME:EDT
DTSTART:20250309T070000
END:DAYLIGHT
BEGIN:STANDARD
TZOFFSETFROM:-0400
TZOFFSETTO:-0500
TZNAME:EST
DTSTART:20251102T060000
END:STANDARD
BEGIN:DAYLIGHT
TZOFFSETFROM:-0500
TZOFFSETTO:-0400
TZNAME:EDT
DTSTART:20260308T070000
END:DAYLIGHT
BEGIN:STANDARD
TZOFFSETFROM:-0400
TZOFFSETTO:-0500
TZNAME:EST
DTSTART:20261101T060000
END:STANDARD
BEGIN:DAYLIGHT
TZOFFSETFROM:-0500
TZOFFSETTO:-0400
TZNAME:EDT
DTSTART:20270314T070000
END:DAYLIGHT
BEGIN:STANDARD
TZOFFSETFROM:-0400
TZOFFSETTO:-0500
TZNAME:EST
DTSTART:20271107T060000
END:STANDARD
END:VTIMEZONE
BEGIN:VEVENT
DTSTART;TZID=America/Detroit:20260719T110000
DTEND;TZID=America/Detroit:20260719T170000
DTSTAMP:20260424T102404
CREATED:20260213T151542Z
LAST-MODIFIED:20260213T151542Z
UID:5244-1784458800-1784480400@polarisfashionplace.com
SUMMARY:Not Your Mama's Craft Market
DESCRIPTION:Our Hot Summer Market is popping up in the former Forever 21 space at Polaris Fashion Place Mall\,  a nostalgic\, wide-open shopping dreamland reimagined for local love. This indoor\, air-conditioned space will feature 90+ local creatives\, curated boutiques\, and vintage booths\, making it easy (and fun) to find all the must-have pieces for your summer shenanigans around Cbus. Stay cool\, take your time wandering\, and soak in that familiar mall magic — now filled with one-of-a-kind finds and seriously good vibes. \n  \n11am – 3pm Ticketed \n3pm – 5pm Free \nPurchase Tickets Here – Coming Soon!
URL:https://polarisfashionplace.com/events/not-your-mamas-craft-market/
CATEGORIES:Arts, Culture and Music
ATTACH;FMTTYPE=image/jpeg:https://polarisfashionplace.com/wp-content/uploads/2026/02/NYMCM-final_lock-up-full-color.jpg
END:VEVENT
END:VCALENDAR