BEGIN:VCALENDAR
VERSION:2.0
PRODID:-//Polaris Fashion Place - ECPv6.15.20//NONSGML v1.0//EN
CALSCALE:GREGORIAN
METHOD:PUBLISH
X-ORIGINAL-URL:https://polarisfashionplace.com
X-WR-CALDESC:Events for Polaris Fashion Place
REFRESH-INTERVAL;VALUE=DURATION:PT1H
X-Robots-Tag:noindex
X-PUBLISHED-TTL:PT1H
BEGIN:VTIMEZONE
TZID:America/Detroit
BEGIN:DAYLIGHT
TZOFFSETFROM:-0500
TZOFFSETTO:-0400
TZNAME:EDT
DTSTART:20220313T070000
END:DAYLIGHT
BEGIN:STANDARD
TZOFFSETFROM:-0400
TZOFFSETTO:-0500
TZNAME:EST
DTSTART:20221106T060000
END:STANDARD
BEGIN:DAYLIGHT
TZOFFSETFROM:-0500
TZOFFSETTO:-0400
TZNAME:EDT
DTSTART:20230312T070000
END:DAYLIGHT
BEGIN:STANDARD
TZOFFSETFROM:-0400
TZOFFSETTO:-0500
TZNAME:EST
DTSTART:20231105T060000
END:STANDARD
BEGIN:DAYLIGHT
TZOFFSETFROM:-0500
TZOFFSETTO:-0400
TZNAME:EDT
DTSTART:20240310T070000
END:DAYLIGHT
BEGIN:STANDARD
TZOFFSETFROM:-0400
TZOFFSETTO:-0500
TZNAME:EST
DTSTART:20241103T060000
END:STANDARD
END:VTIMEZONE
BEGIN:VEVENT
DTSTART;TZID=America/Detroit:20231022T110000
DTEND;TZID=America/Detroit:20231022T120000
DTSTAMP:20260419T125820
CREATED:20231006T203902Z
LAST-MODIFIED:20231006T203953Z
UID:905-1697972400-1697976000@polarisfashionplace.com
SUMMARY:FRUITS & VEGETABLES WITH ZWILLING
DESCRIPTION:Knowing how to slice produce makes meal prep a breeze. We’ll turn our prepped vegetables into Smitten Kitchen’s Fall Bliss Salad.
URL:https://polarisfashionplace.com/events/https-www-williams-sonoma-com-events-eventidevx7lwavv79/
LOCATION:Williams Sonoma
CATEGORIES:Retailer Events
ATTACH;FMTTYPE=image/png:https://polarisfashionplace.com/wp-content/uploads/2023/10/Williams-Sonoma.png
END:VEVENT
BEGIN:VEVENT
DTSTART;TZID=America/Detroit:20231029T110000
DTEND;TZID=America/Detroit:20231029T120000
DTSTAMP:20260419T125820
CREATED:20231006T204115Z
LAST-MODIFIED:20231006T204115Z
UID:906-1698577200-1698580800@polarisfashionplace.com
SUMMARY:CARVING & KNIFE SHARPENING WITH WUSTHOF
DESCRIPTION:Gear up for Thanksgiving with our primer on turkey carving and the basics of knife sharpening.
URL:https://polarisfashionplace.com/events/carving-knife-sharpening-with-wusthof/
LOCATION:Williams Sonoma
CATEGORIES:Retailer Events
ATTACH;FMTTYPE=image/png:https://polarisfashionplace.com/wp-content/uploads/2023/10/Williams-Sonoma.png
END:VEVENT
END:VCALENDAR