BEGIN:VCALENDAR
VERSION:2.0
PRODID:-//Polaris Fashion Place - ECPv6.15.20//NONSGML v1.0//EN
CALSCALE:GREGORIAN
METHOD:PUBLISH
X-ORIGINAL-URL:https://polarisfashionplace.com
X-WR-CALDESC:Events for Polaris Fashion Place
REFRESH-INTERVAL;VALUE=DURATION:PT1H
X-Robots-Tag:noindex
X-PUBLISHED-TTL:PT1H
BEGIN:VTIMEZONE
TZID:America/Detroit
BEGIN:DAYLIGHT
TZOFFSETFROM:-0500
TZOFFSETTO:-0400
TZNAME:EDT
DTSTART:20240310T070000
END:DAYLIGHT
BEGIN:STANDARD
TZOFFSETFROM:-0400
TZOFFSETTO:-0500
TZNAME:EST
DTSTART:20241103T060000
END:STANDARD
BEGIN:DAYLIGHT
TZOFFSETFROM:-0500
TZOFFSETTO:-0400
TZNAME:EDT
DTSTART:20250309T070000
END:DAYLIGHT
BEGIN:STANDARD
TZOFFSETFROM:-0400
TZOFFSETTO:-0500
TZNAME:EST
DTSTART:20251102T060000
END:STANDARD
BEGIN:DAYLIGHT
TZOFFSETFROM:-0500
TZOFFSETTO:-0400
TZNAME:EDT
DTSTART:20260308T070000
END:DAYLIGHT
BEGIN:STANDARD
TZOFFSETFROM:-0400
TZOFFSETTO:-0500
TZNAME:EST
DTSTART:20261101T060000
END:STANDARD
END:VTIMEZONE
BEGIN:VEVENT
DTSTART;TZID=America/Detroit:20250323T110000
DTEND;TZID=America/Detroit:20250323T113000
DTSTAMP:20260424T020832
CREATED:20250220T180902Z
LAST-MODIFIED:20250220T180902Z
UID:2744-1742727600-1742729400@polarisfashionplace.com
SUMMARY:Williams Sonoma Test Kitchen Skills Series
DESCRIPTION:Each month in our Williams Sonoma store\, we’ll tackle a new culinary technique to help you learn to cook – or take your kitchen skills to the next level. \nSkills Series events are free to attend\, but do ask for an RSVP on the website: CLICK HERE! \nClasses are every Sunday at 11:00AM. 
URL:https://polarisfashionplace.com/events/williams-sonoma-test-kitchen-skills-series-5/
CATEGORIES:Ongoing,Retailer Events
ATTACH;FMTTYPE=image/png:https://polarisfashionplace.com/wp-content/uploads/2025/02/Untitled-1.png
END:VEVENT
BEGIN:VEVENT
DTSTART;TZID=America/Detroit:20250330T110000
DTEND;TZID=America/Detroit:20250330T113000
DTSTAMP:20260424T020832
CREATED:20250220T180926Z
LAST-MODIFIED:20250220T180926Z
UID:2745-1743332400-1743334200@polarisfashionplace.com
SUMMARY:Williams Sonoma Test Kitchen Skills Series
DESCRIPTION:Each month in our Williams Sonoma store\, we’ll tackle a new culinary technique to help you learn to cook – or take your kitchen skills to the next level. \nSkills Series events are free to attend\, but do ask for an RSVP on the website: CLICK HERE! \nClasses are every Sunday at 11:00AM. 
URL:https://polarisfashionplace.com/events/williams-sonoma-test-kitchen-skills-series-6/
CATEGORIES:Ongoing,Retailer Events
ATTACH;FMTTYPE=image/png:https://polarisfashionplace.com/wp-content/uploads/2025/02/Untitled-1.png
END:VEVENT
BEGIN:VEVENT
DTSTART;TZID=America/Detroit:20250406T110000
DTEND;TZID=America/Detroit:20250406T113000
DTSTAMP:20260424T020832
CREATED:20250220T181044Z
LAST-MODIFIED:20250220T181044Z
UID:2746-1743937200-1743939000@polarisfashionplace.com
SUMMARY:Williams Sonoma Test Kitchen Skills Series
DESCRIPTION:Each month in our Williams Sonoma store\, we’ll tackle a new culinary technique to help you learn to cook – or take your kitchen skills to the next level. \nSkills Series events are free to attend\, but do ask for an RSVP on the website: CLICK HERE! \nClasses are every Sunday at 11:00AM. 
URL:https://polarisfashionplace.com/events/williams-sonoma-test-kitchen-skills-series-7/
CATEGORIES:Ongoing,Retailer Events
ATTACH;FMTTYPE=image/png:https://polarisfashionplace.com/wp-content/uploads/2025/02/Untitled-1.png
END:VEVENT
BEGIN:VEVENT
DTSTART;TZID=America/Detroit:20250413T110000
DTEND;TZID=America/Detroit:20250413T113000
DTSTAMP:20260424T020832
CREATED:20250220T181110Z
LAST-MODIFIED:20250220T181110Z
UID:2747-1744542000-1744543800@polarisfashionplace.com
SUMMARY:Williams Sonoma Test Kitchen Skills Series
DESCRIPTION:Each month in our Williams Sonoma store\, we’ll tackle a new culinary technique to help you learn to cook – or take your kitchen skills to the next level. \nSkills Series events are free to attend\, but do ask for an RSVP on the website: CLICK HERE! \nClasses are every Sunday at 11:00AM. 
URL:https://polarisfashionplace.com/events/williams-sonoma-test-kitchen-skills-series-8/
CATEGORIES:Ongoing,Retailer Events
ATTACH;FMTTYPE=image/png:https://polarisfashionplace.com/wp-content/uploads/2025/02/Untitled-1.png
END:VEVENT
BEGIN:VEVENT
DTSTART;TZID=America/Detroit:20250427T110000
DTEND;TZID=America/Detroit:20250427T113000
DTSTAMP:20260424T020832
CREATED:20250220T181209Z
LAST-MODIFIED:20250220T181209Z
UID:2748-1745751600-1745753400@polarisfashionplace.com
SUMMARY:Williams Sonoma Test Kitchen Skills Series
DESCRIPTION:Each month in our Williams Sonoma store\, we’ll tackle a new culinary technique to help you learn to cook – or take your kitchen skills to the next level. \nSkills Series events are free to attend\, but do ask for an RSVP on the website: CLICK HERE! \nClasses are every Sunday at 11:00AM. 
URL:https://polarisfashionplace.com/events/williams-sonoma-test-kitchen-skills-series-9/
CATEGORIES:Ongoing,Retailer Events
ATTACH;FMTTYPE=image/png:https://polarisfashionplace.com/wp-content/uploads/2025/02/Untitled-1.png
END:VEVENT
BEGIN:VEVENT
DTSTART;TZID=America/Detroit:20250504T110000
DTEND;TZID=America/Detroit:20250504T120000
DTSTAMP:20260424T020832
CREATED:20250423T132608Z
LAST-MODIFIED:20250423T132608Z
UID:2876-1746356400-1746360000@polarisfashionplace.com
SUMMARY:Williams Sonoma Test Kitchen Skills Series - Nacho Fiesta
DESCRIPTION:Each month in our Williams Sonoma store\, we’ll tackle a new culinary technique to help you learn to cook – or take your kitchen skills to the next level. \nSkills Series events are free to attend\, but do ask for an RSVP on the website: CLICK HERE! \n5/4 – Nacho Fiesta \nSpice up your Cinco de Mayo with this fun pizza that’s loaded with ground beef\, chiles\, Mexican cheese and other fixings. We’ll show you how to make it using our Breville Pizzaiolo!
URL:https://polarisfashionplace.com/events/williams-sonoma-test-kitchen-skills-series-nacho-fiesta/
CATEGORIES:Ongoing,Retailer Events
ATTACH;FMTTYPE=image/png:https://polarisfashionplace.com/wp-content/uploads/2025/04/William.png
END:VEVENT
BEGIN:VEVENT
DTSTART;TZID=America/Detroit:20250511T110000
DTEND;TZID=America/Detroit:20250511T120000
DTSTAMP:20260424T020832
CREATED:20250423T132726Z
LAST-MODIFIED:20250423T132726Z
UID:2878-1746961200-1746964800@polarisfashionplace.com
SUMMARY:Williams Sonoma Test Kitchen Skills Series - Mother's Day Pasta From Scratch
DESCRIPTION:Each month in our Williams Sonoma store\, we’ll tackle a new culinary technique to help you learn to cook – or take your kitchen skills to the next level. \nSkills Series events are free to attend\, but do ask for an RSVP on the website: CLICK HERE! \n5/11 – Mother’s Day Pasta From Scratch \nCelebrate Mother’s Day with a fresh pasta-making class\, perfect for creating delicious memories together. We’ll pair our fresh pasta with a creamy Lemon Caper Pasta Sauce.
URL:https://polarisfashionplace.com/events/williams-sonoma-test-kitchen-skills-series-mothers-day-pasta-from-scratch/
CATEGORIES:Ongoing,Retailer Events
ATTACH;FMTTYPE=image/png:https://polarisfashionplace.com/wp-content/uploads/2025/04/William.png
END:VEVENT
BEGIN:VEVENT
DTSTART;TZID=America/Detroit:20250518T110000
DTEND;TZID=America/Detroit:20250518T120000
DTSTAMP:20260424T020832
CREATED:20250423T132832Z
LAST-MODIFIED:20250423T132832Z
UID:2879-1747566000-1747569600@polarisfashionplace.com
SUMMARY:Williams Sonoma Test Kitchen Skills Series - Pesto Pasta
DESCRIPTION:Each month in our Williams Sonoma store\, we’ll tackle a new culinary technique to help you learn to cook – or take your kitchen skills to the next level. \nSkills Series events are free to attend\, but do ask for an RSVP on the website: CLICK HERE! \n5/18 – Pesto Pasta \nDiscover the art of making fresh\, vibrant pesto from scratch. Learn to blend basil\, garlic\, nuts and cheese into a rich\, flavorful sauce that goes perfectly with pasta and more!
URL:https://polarisfashionplace.com/events/williams-sonoma-test-kitchen-skills-series-pesto-pasta/
CATEGORIES:Ongoing,Retailer Events
ATTACH;FMTTYPE=image/png:https://polarisfashionplace.com/wp-content/uploads/2025/04/William.png
END:VEVENT
BEGIN:VEVENT
DTSTART;TZID=America/Detroit:20250525T110000
DTEND;TZID=America/Detroit:20250525T120000
DTSTAMP:20260424T020832
CREATED:20250423T132941Z
LAST-MODIFIED:20250423T132941Z
UID:2880-1748170800-1748174400@polarisfashionplace.com
SUMMARY:Williams Sonoma Test Kitchen Skills Series - Homemade Pizza
DESCRIPTION:Each month in our Williams Sonoma store\, we’ll tackle a new culinary technique to help you learn to cook – or take your kitchen skills to the next level. \nSkills Series events are free to attend\, but do ask for an RSVP on the website: CLICK HERE! \n5/25 – Homemade Pizza \nLearn to make pizza just the way you like it\, from crust to toppings! You won’t want to miss it!
URL:https://polarisfashionplace.com/events/williams-sonoma-test-kitchen-skills-series-homemade-pizza/
CATEGORIES:Ongoing,Retailer Events
ATTACH;FMTTYPE=image/png:https://polarisfashionplace.com/wp-content/uploads/2025/04/William.png
END:VEVENT
BEGIN:VEVENT
DTSTART;TZID=America/Detroit:20250726T140000
DTEND;TZID=America/Detroit:20250726T210000
DTSTAMP:20260424T020832
CREATED:20250501T145945Z
LAST-MODIFIED:20250620T185303Z
UID:2900-1753538400-1753563600@polarisfashionplace.com
SUMMARY:LIVE @ Polaris presents Summerfest\, powered by Wright-Patt Credit Union
DESCRIPTION:LIVE @ Polaris is set to return this summer for one mega event! LIVE @ Polaris presents Summerfest\, powered by Wright-Patt Credit Union \nSaturday\, July 26 from 2:00pm – 9:00pm \nLocated in the valet parking lot near Molly Woo’s and Brio \nFEATURED BANDS: \nTown & Country (2pm-4pm)\nThe Menus (5pm-9pm) \nFree kids face painting and balloon twisting!\nFree zip lining activity! \nWe’ll also have a cornhole tournament with great prizes. Make sure to register in advance: https://www.eventbrite.com/e/live-polaris-summer-fest-cornhole-tournament-tickets-1360840152529?aff=oddtdtcreator \nCONFIRMED FOOD TRUCKS: \nGraeter’s Ice Cream\, Mustafa’s Halal Gyro\, Ono Turo-Turo (Asian Fusian)\, La Baia (Italian) \nAlcohol sales on-site with proceeds benefiting the Epilepsy Alliance of Ohio \nMake sure to check out FUNBOX – the world’s biggest bounce park\, in the parking lot right next to the concert! \nThanks to our presenting sponsor in Wright-Patt Credit Union and our supporting sponsors in 92.3 WCOL / 93.3 The Bus
URL:https://polarisfashionplace.com/events/live-polaris-presents-summerfest-powered-by-wright-patt-credit-union/
CATEGORIES:Food Truck,Kids,Ongoing,Seasonal
ATTACH;FMTTYPE=image/png:https://polarisfashionplace.com/wp-content/uploads/2025/04/SUMMER-1.png
END:VEVENT
END:VCALENDAR